BEGIN:VCALENDAR
VERSION:2.0
PRODID:-//Buhid - ECPv6.15.17.1//NONSGML v1.0//EN
CALSCALE:GREGORIAN
METHOD:PUBLISH
X-ORIGINAL-URL:https://buhid.com
X-WR-CALDESC:Events for Buhid
REFRESH-INTERVAL;VALUE=DURATION:PT1H
X-Robots-Tag:noindex
X-PUBLISHED-TTL:PT1H
BEGIN:VTIMEZONE
TZID:UTC
BEGIN:STANDARD
TZOFFSETFROM:+0000
TZOFFSETTO:+0000
TZNAME:UTC
DTSTART:20230101T000000
END:STANDARD
END:VTIMEZONE
BEGIN:VEVENT
DTSTART;TZID=UTC:20240818T080000
DTEND;TZID=UTC:20240818T170000
DTSTAMP:20260423T151348
CREATED:20221103T044654Z
LAST-MODIFIED:20240903T054059Z
UID:3269-1723968000-1724000400@buhid.com
SUMMARY:Building Brighter Tomorrows: Foundation Meet & Greet
DESCRIPTION:This event marked the beginning of our foundation’s work with the Buhid Mangyan community in Mindoro\, Philippines. We had the privilege of meeting the village children we are sponsoring\, providing them with educational support\, and delivering much-needed supplies like clothes and water pipes to improve irrigation for farming. It was a meaningful day filled with interaction\, support\, and laying the groundwork for continued growth and development in the community. \n \n  \n \n  \n  \nOur goal is to make a tangible difference in their lives by focusing on education and essential resources. The event brought together the community\, allowing us to connect directly with the families and share our vision for a brighter future. \nIt was a meaningful day of interaction\, support\, and laying the groundwork for continued growth and development in the community. Thank you to everyone who participated and supported this initiative. Together\, we are helping to build brighter tomorrows. \n  \n 
URL:https://buhid.com/ourevent/building-brighter-tomorrows-foundation-meet-and-greet/
LOCATION:Buhid Event\, Mangyan Village\, Mindoro\, Philippines
CATEGORIES:Event Listings
ATTACH;FMTTYPE=image/jpeg:https://buhid.com/wp-content/uploads/2022/11/IMG_9467.jpeg
END:VEVENT
END:VCALENDAR